BEGIN:VCALENDAR
VERSION:2.0
PRODID:-//Squarespace Inc/Squarespace 6//v6//EN
BEGIN:VEVENT
UID:60a864702963a366958053c2@squarespace.com
DTSTAMP:20210522T015536Z
DTSTART:20210918T050000Z
DTEND:20210918T060000Z
SUMMARY:Helium
END:VEVENT
END:VCALENDAR
