BEGIN:VCALENDAR
VERSION:2.0
PRODID:-//Squarespace Inc/Squarespace 6//v6//EN
BEGIN:VEVENT
UID:60a864d9a22ee22cf276567c@squarespace.com
DTSTAMP:20210522T015659Z
DTSTART:20210919T050000Z
DTEND:20210919T060000Z
SUMMARY:Helium
END:VEVENT
END:VCALENDAR
