BEGIN:VCALENDAR
VERSION:2.0
PRODID:-//Squarespace Inc/Squarespace 6//v6//EN
BEGIN:VEVENT
UID:60a8649c775afc3733f9fb91@squarespace.com
DTSTAMP:20210522T015637Z
DTSTART:20210919T023000Z
DTEND:20210919T033000Z
SUMMARY:Helium
END:VEVENT
END:VCALENDAR
