BEGIN:VCALENDAR
VERSION:2.0
PRODID:-//Squarespace Inc/Squarespace 6//v6//EN
BEGIN:VEVENT
UID:5c75d9cde2c483e53c035894@squarespace.com
DTSTAMP:20190227T002937Z
DTSTART:20190616T023000Z
DTEND:20190616T033000Z
SUMMARY:Helium Comedy Club
END:VEVENT
END:VCALENDAR
