BEGIN:VCALENDAR
VERSION:2.0
PRODID:-//Squarespace Inc/Squarespace 6//v6//EN
BEGIN:VEVENT
UID:5c75d99d1905f480f9e5c6dc@squarespace.com
DTSTAMP:20190227T002850Z
DTSTART:20190615T023000Z
DTEND:20190615T033000Z
SUMMARY:Helium Comedy Club
END:VEVENT
END:VCALENDAR
