BEGIN:VCALENDAR
VERSION:2.0
PRODID:-//Squarespace Inc/Squarespace 6//v6//EN
BEGIN:VEVENT
UID:5deedac7465dcc7dc4d030f9@squarespace.com
DTSTAMP:20191209T233830Z
DTSTART:20200215T040000Z
DTEND:20200215T050000Z
SUMMARY:Hard Rock Live
END:VEVENT
END:VCALENDAR
