BEGIN:VCALENDAR
VERSION:2.0
PRODID:-//Squarespace Inc/Squarespace 6//v6//EN
BEGIN:VEVENT
UID:5c75d67eee6eb02ae93ad7ab@squarespace.com
DTSTAMP:20190327T040221Z
DTSTART:20190802T030000Z
DTEND:20190802T050000Z
SUMMARY:Goodnights Comedy Club
END:VEVENT
END:VCALENDAR
