BEGIN:VCALENDAR
VERSION:2.0
PRODID:-//Squarespace Inc/Squarespace 6//v6//EN
BEGIN:VEVENT
UID:5c75d72eeb393114c85a64f2@squarespace.com
DTSTAMP:20190327T040342Z
DTSTART:20190804T023000Z
DTEND:20190804T063000Z
SUMMARY:Goodnights Comedy Club
END:VEVENT
END:VCALENDAR
