BEGIN:VCALENDAR
VERSION:2.0
PRODID:-//Squarespace Inc/Squarespace 6//v6//EN
BEGIN:VEVENT
UID:5c75d6edb208fc442f2c444c@squarespace.com
DTSTAMP:20190327T040324Z
DTSTART:20190803T023000Z
DTEND:20190803T063000Z
SUMMARY:Goodnights Comedy Club
END:VEVENT
END:VCALENDAR
