BEGIN:VCALENDAR
VERSION:2.0
PRODID:-//Squarespace Inc/Squarespace 6//v6//EN
BEGIN:VEVENT
UID:570c07e459827efb3905d9f1@squarespace.com
DTSTAMP:20160509T194938Z
DTSTART:20160629T030000Z
DTEND:20160629T050000Z
SUMMARY:Trepany House
GEO:34.052234;-118.243685
LOCATION:Los Angeles\, CA
END:VEVENT
END:VCALENDAR
