BEGIN:VCALENDAR
VERSION:2.0
PRODID:-//Squarespace Inc/Squarespace 6//v6//EN
BEGIN:VEVENT
UID:5d012838b0903d00012299f7@squarespace.com
DTSTAMP:20190612T163316Z
DTSTART:20190727T201500Z
DTEND:20190727T211500Z
SUMMARY:GLOW Panel (at Just for Laughs)
END:VEVENT
END:VCALENDAR
