BEGIN:VCALENDAR
VERSION:2.0
PRODID:-//Squarespace Inc/Squarespace 6//v6//EN
BEGIN:VEVENT
UID:5b4c1d038a922da49bb236a5@squarespace.com
DTSTAMP:20180716T042115Z
DTSTART:20180902T030000Z
DTEND:20180902T040000Z
SUMMARY:The Comedy Attic
GEO:40.720756;-74.000761
LOCATION:bloomington in
END:VEVENT
END:VCALENDAR
