BEGIN:VCALENDAR
VERSION:2.0
PRODID:-//Squarespace Inc/Squarespace 6//v6//EN
BEGIN:VEVENT
UID:584e310a8419c2a296d9e59f@squarespace.com
DTSTAMP:20161213T203208Z
DTSTART:20170325T030000Z
DTEND:20170325T050000Z
SUMMARY:Fox Oakland
GEO:40.720756;-74.000761
LOCATION:Oakland\, CA
END:VEVENT
END:VCALENDAR
