BEGIN:VCALENDAR
VERSION:2.0
PRODID:-//Squarespace Inc/Squarespace 6//v6//EN
BEGIN:VEVENT
UID:5deecf6ccece79247fdd6747@squarespace.com
DTSTAMP:20191209T233536Z
DTSTART:20200201T040000Z
DTEND:20200201T050000Z
SUMMARY:Fountain Street Church
END:VEVENT
END:VCALENDAR
