BEGIN:VCALENDAR
VERSION:2.0
PRODID:-//Squarespace Inc/Squarespace 6//v6//EN
BEGIN:VEVENT
UID:5a2dfd4a0d9297714fa683eb@squarespace.com
DTSTAMP:20171214T034031Z
DTSTART:20180423T030000Z
DTEND:20180423T050000Z
SUMMARY:Folketeatret
GEO:59.913869;10.752245
LOCATION:Oslo\, Norway
END:VEVENT
END:VCALENDAR
