BEGIN:VCALENDAR
VERSION:2.0
PRODID:-//Squarespace Inc/Squarespace 6//v6//EN
BEGIN:VEVENT
UID:57c8a1b48419c2670eb99376@squarespace.com
DTSTAMP:20170123T185220Z
DTSTART:20170313T030000Z
DTEND:20170313T050000Z
SUMMARY:Flynn Center
GEO:44.475882;-73.212072
LOCATION:Burlington\, VT
END:VEVENT
END:VCALENDAR
