BEGIN:VCALENDAR
VERSION:2.0
PRODID:-//Squarespace Inc/Squarespace 6//v6//EN
BEGIN:VEVENT
UID:61a507bf77f4dd7160cf3244@squarespace.com
DTSTAMP:20211129T170402Z
DTSTART:20220313T030000Z
DTEND:20220313T040000Z
SUMMARY:Flynn Center
END:VEVENT
END:VCALENDAR
