BEGIN:VCALENDAR
VERSION:2.0
PRODID:-//Squarespace Inc/Squarespace 6//v6//EN
BEGIN:VEVENT
UID:5deedb3d4ad663313907330a@squarespace.com
DTSTAMP:20200115T222730Z
DTSTART:20200216T040000Z
DTEND:20200216T050000Z
SUMMARY:Straz Center
END:VEVENT
END:VCALENDAR
