BEGIN:VCALENDAR
VERSION:2.0
PRODID:-//Squarespace Inc/Squarespace 6//v6//EN
BEGIN:VEVENT
UID:5ba954161905f4a4c26f5eab@squarespace.com
DTSTAMP:20180924T211703Z
DTSTART:20181005T030000Z
DTEND:20181005T040000Z
SUMMARY:Dynasty Typewriter
GEO:34.052234;-118.243685
LOCATION:LOS ANGELES
END:VEVENT
END:VCALENDAR
