BEGIN:VCALENDAR
VERSION:2.0
PRODID:-//Squarespace Inc/Squarespace 6//v6//EN
BEGIN:VEVENT
UID:6167111bcf38d82f338cb971@squarespace.com
DTSTAMP:20211013T171011Z
DTSTART:20211026T030000Z
DTEND:20211026T043000Z
SUMMARY:Dynasty Typewriter
END:VEVENT
END:VCALENDAR
