BEGIN:VCALENDAR
VERSION:2.0
PRODID:-//Squarespace Inc/Squarespace 6//v6//EN
BEGIN:VEVENT
UID:5d5adb8640b36f0001a3f89f@squarespace.com
DTSTAMP:20190819T172601Z
DTSTART:20191007T030000Z
DTEND:20191007T040000Z
SUMMARY:Dynasty Typewriter
END:VEVENT
END:VCALENDAR
