BEGIN:VCALENDAR
VERSION:2.0
PRODID:-//Squarespace Inc/Squarespace 6//v6//EN
BEGIN:VEVENT
UID:5d5adb01367f250001896614@squarespace.com
DTSTAMP:20190819T172507Z
DTSTART:20191006T030000Z
DTEND:20191006T040000Z
SUMMARY:Dynasty Typewriter
END:VEVENT
END:VCALENDAR
