BEGIN:VCALENDAR
VERSION:2.0
PRODID:-//Squarespace Inc/Squarespace 6//v6//EN
BEGIN:VEVENT
UID:5ba9545a0852295ef53ca5f9@squarespace.com
DTSTAMP:20180924T211907Z
DTSTART:20181007T050000Z
DTEND:20181007T060000Z
SUMMARY:Dynasty Typewriter
GEO:40.720756;-74.000761
LOCATION:los angeles
END:VEVENT
END:VCALENDAR
