BEGIN:VCALENDAR
VERSION:2.0
PRODID:-//Squarespace Inc/Squarespace 6//v6//EN
BEGIN:VEVENT
UID:61ae6f0301f4680c3cd6d7a8@squarespace.com
DTSTAMP:20211206T201556Z
DTSTART:20220503T030000Z
DTEND:20220503T040000Z
SUMMARY:Dynasty Typewriter
END:VEVENT
END:VCALENDAR
