BEGIN:VCALENDAR
VERSION:2.0
PRODID:-//Squarespace Inc/Squarespace 6//v6//EN
BEGIN:VEVENT
UID:61ae6f8428357f232d1e7953@squarespace.com
DTSTAMP:20211206T201712Z
DTSTART:20220504T030000Z
DTEND:20220504T040000Z
SUMMARY:Dynasty Typewriter
END:VEVENT
END:VCALENDAR
