BEGIN:VCALENDAR
VERSION:2.0
PRODID:-//Squarespace Inc/Squarespace 6//v6//EN
BEGIN:VEVENT
UID:61ae6fced1bb386f0fd7f90a@squarespace.com
DTSTAMP:20211206T201828Z
DTSTART:20220505T030000Z
DTEND:20220505T040000Z
SUMMARY:Dynasty Typewriter
END:VEVENT
END:VCALENDAR
