BEGIN:VCALENDAR
VERSION:2.0
PRODID:-//Squarespace Inc/Squarespace 6//v6//EN
BEGIN:VEVENT
UID:5cab97fa0852295bca1fd547@squarespace.com
DTSTAMP:20190408T185152Z
DTSTART:20190825T023000Z
DTEND:20190825T033000Z
SUMMARY:Wortham Theater Center
END:VEVENT
END:VCALENDAR
