BEGIN:VCALENDAR
VERSION:2.0
PRODID:-//Squarespace Inc/Squarespace 6//v6//EN
BEGIN:VEVENT
UID:61a50dd9e9b23233019be1b7@squarespace.com
DTSTAMP:20211129T172953Z
DTSTART:20220522T020000Z
DTEND:20220522T030000Z
SUMMARY:Count Basie Center
END:VEVENT
END:VCALENDAR
