BEGIN:VCALENDAR
VERSION:2.0
PRODID:-//Squarespace Inc/Squarespace 6//v6//EN
BEGIN:VEVENT
UID:5b4c1fe7f950b741b8d10c75@squarespace.com
DTSTAMP:20180716T043317Z
DTSTART:20180922T023000Z
DTEND:20180922T033000Z
SUMMARY:Comedy Works 
GEO:39.739236;-104.990251
LOCATION:DENVER
END:VEVENT
END:VCALENDAR
