BEGIN:VCALENDAR
VERSION:2.0
PRODID:-//Squarespace Inc/Squarespace 6//v6//EN
BEGIN:VEVENT
UID:60a860512a6da21643fcd314@squarespace.com
DTSTAMP:20210522T014042Z
DTSTART:20210806T030000Z
DTEND:20210806T040000Z
SUMMARY:Comedy Works Denver 
GEO:39.739236;-104.990251
LOCATION:Denver\, CO
END:VEVENT
END:VCALENDAR
