BEGIN:VCALENDAR
VERSION:2.0
PRODID:-//Squarespace Inc/Squarespace 6//v6//EN
BEGIN:VEVENT
UID:60a8611ad5bb325fd27cf0c9@squarespace.com
DTSTAMP:20210522T014130Z
DTSTART:20210807T023000Z
DTEND:20210807T033000Z
SUMMARY:Comedy Works Denver 
GEO:39.739236;-104.990251
LOCATION:Denver\, CO
END:VEVENT
END:VCALENDAR
