BEGIN:VCALENDAR
VERSION:2.0
PRODID:-//Squarespace Inc/Squarespace 6//v6//EN
BEGIN:VEVENT
UID:60a8616b1a74bd0fe56a613d@squarespace.com
DTSTAMP:20210522T014329Z
DTSTART:20210808T023000Z
DTEND:20210808T033000Z
SUMMARY:Comedy Works Denver 
GEO:39.739236;-104.990251
LOCATION:Denver\, CO
END:VEVENT
END:VCALENDAR
