BEGIN:VCALENDAR
VERSION:2.0
PRODID:-//Squarespace Inc/Squarespace 6//v6//EN
BEGIN:VEVENT
UID:60a8614d0f22b81472a9f2a8@squarespace.com
DTSTAMP:20210522T014153Z
DTSTART:20210807T044500Z
DTEND:20210807T054500Z
SUMMARY:Comedy Works Denver 
GEO:39.739236;-104.990251
LOCATION:Denver\, CO
END:VEVENT
END:VCALENDAR
