BEGIN:VCALENDAR
VERSION:2.0
PRODID:-//Squarespace Inc/Squarespace 6//v6//EN
BEGIN:VEVENT
UID:60a8617a4157ab1115ddca7b@squarespace.com
DTSTAMP:20210522T014338Z
DTSTART:20210808T044500Z
DTEND:20210808T054500Z
SUMMARY:Comedy Works Denver
GEO:39.739236;-104.990251
LOCATION:Denver\, CO
END:VEVENT
END:VCALENDAR
