BEGIN:VCALENDAR
VERSION:2.0
PRODID:-//Squarespace Inc/Squarespace 6//v6//EN
BEGIN:VEVENT
UID:5b4c20706d2a732ab39c1131@squarespace.com
DTSTAMP:20180716T043531Z
DTSTART:20180923T044500Z
DTEND:20180923T054500Z
SUMMARY:Comedy Works
GEO:40.720756;-74.000761
LOCATION:denver
END:VEVENT
END:VCALENDAR
