BEGIN:VCALENDAR
VERSION:2.0
PRODID:-//Squarespace Inc/Squarespace 6//v6//EN
BEGIN:VEVENT
UID:5b4c20462b6a280d52d42281@squarespace.com
DTSTAMP:20180716T043447Z
DTSTART:20180923T023000Z
DTEND:20180923T033000Z
SUMMARY:Comedy Works
GEO:40.720756;-74.000761
LOCATION:denver
END:VEVENT
END:VCALENDAR
