BEGIN:VCALENDAR
VERSION:2.0
PRODID:-//Squarespace Inc/Squarespace 6//v6//EN
BEGIN:VEVENT
UID:5b4c201a6d2a732ab39c08cd@squarespace.com
DTSTAMP:20180716T043405Z
DTSTART:20180922T044500Z
DTEND:20180922T054500Z
SUMMARY:Comedy Works
GEO:39.739236;-104.990251
LOCATION:denver
END:VEVENT
END:VCALENDAR
