BEGIN:VCALENDAR
VERSION:2.0
PRODID:-//Squarespace Inc/Squarespace 6//v6//EN
BEGIN:VEVENT
UID:5c75d7926e9a7f1cf3d67da3@squarespace.com
DTSTAMP:20190424T014637Z
DTSTART:20190524T030000Z
DTEND:20190524T030000Z
SUMMARY:Comedy Club on State (SOLD OUT)
END:VEVENT
END:VCALENDAR
