BEGIN:VCALENDAR
VERSION:2.0
PRODID:-//Squarespace Inc/Squarespace 6//v6//EN
BEGIN:VEVENT
UID:5c75d822eef1a1cf3172d1fa@squarespace.com
DTSTAMP:20190424T014658Z
DTSTART:20190526T030000Z
DTEND:20190526T030000Z
SUMMARY:Comedy Club on State (SOLD OUT)
END:VEVENT
END:VCALENDAR
