BEGIN:VCALENDAR
VERSION:2.0
PRODID:-//Squarespace Inc/Squarespace 6//v6//EN
BEGIN:VEVENT
UID:5c75d7e38165f58a82b4c1dc@squarespace.com
DTSTAMP:20190424T014646Z
DTSTART:20190525T030000Z
DTEND:20190525T030000Z
SUMMARY:Comedy Club on State (SOLD OUT)
END:VEVENT
END:VCALENDAR
