BEGIN:VCALENDAR
VERSION:2.0
PRODID:-//Squarespace Inc/Squarespace 6//v6//EN
BEGIN:VEVENT
UID:5deedbd1c7e57920da088a9d@squarespace.com
DTSTAMP:20191209T234246Z
DTSTART:20200222T040000Z
DTEND:20200222T050000Z
SUMMARY:Columbus Theatre
END:VEVENT
END:VCALENDAR
