BEGIN:VCALENDAR
VERSION:2.0
PRODID:-//Squarespace Inc/Squarespace 6//v6//EN
BEGIN:VEVENT
UID:61a5086edb92b17c6aa25894@squarespace.com
DTSTAMP:20211207T225520Z
DTSTART:20220416T020000Z
DTEND:20220416T030000Z
SUMMARY:Columbus Theatre
END:VEVENT
END:VCALENDAR
