BEGIN:VCALENDAR
VERSION:2.0
PRODID:-//Squarespace Inc/Squarespace 6//v6//EN
BEGIN:VEVENT
UID:61a50757e004e72ec219767d@squarespace.com
DTSTAMP:20211129T170220Z
DTSTART:20220312T030000Z
DTEND:20220312T040000Z
SUMMARY:Colonial Theatre
END:VEVENT
END:VCALENDAR
