BEGIN:VCALENDAR
VERSION:2.0
PRODID:-//Squarespace Inc/Squarespace 6//v6//EN
BEGIN:VEVENT
UID:61a5065608493d4957aa01f0@squarespace.com
DTSTAMP:20211129T165831Z
DTSTART:20220310T040000Z
DTEND:20220310T050000Z
SUMMARY:College Street
END:VEVENT
END:VCALENDAR
