BEGIN:VCALENDAR
VERSION:2.0
PRODID:-//Squarespace Inc/Squarespace 6//v6//EN
BEGIN:VEVENT
UID:57924ce6f5e231955a3e9953@squarespace.com
DTSTAMP:20160907T205018Z
DTSTART:20170311T040000Z
DTEND:20170311T060000Z
SUMMARY:College Street Music Hall
GEO:41.308274;-72.927884
LOCATION:New Haven\, CT
END:VEVENT
END:VCALENDAR
