BEGIN:VCALENDAR
VERSION:2.0
PRODID:-//Squarespace Inc/Squarespace 6//v6//EN
BEGIN:VEVENT
UID:5deedc11c7e57920da0891de@squarespace.com
DTSTAMP:20191209T234359Z
DTSTART:20200223T040000Z
DTEND:20200223T050000Z
SUMMARY:College Street Music Hall
END:VEVENT
END:VCALENDAR
