BEGIN:VCALENDAR
VERSION:2.0
PRODID:-//Squarespace Inc/Squarespace 6//v6//EN
BEGIN:VEVENT
UID:5a2dfcde53450ab787de8f25@squarespace.com
DTSTAMP:20171214T034003Z
DTSTART:20180420T030000Z
DTEND:20180420T050000Z
SUMMARY:Chinatheatern
GEO:59.329323;18.068581
LOCATION:stockholm\, sweden
END:VEVENT
END:VCALENDAR
