BEGIN:VCALENDAR
VERSION:2.0
PRODID:-//Squarespace Inc/Squarespace 6//v6//EN
BEGIN:VEVENT
UID:61a50f2472d9076cd4275f31@squarespace.com
DTSTAMP:20211129T173530Z
DTSTART:20220620T020000Z
DTEND:20220620T030000Z
SUMMARY:Charleston Music Hall
END:VEVENT
END:VCALENDAR
