BEGIN:VCALENDAR
VERSION:2.0
PRODID:-//Squarespace Inc/Squarespace 6//v6//EN
BEGIN:VEVENT
UID:61a50e726da1cf04637a2fbb@squarespace.com
DTSTAMP:20211129T173224Z
DTSTART:20220618T020000Z
DTEND:20220618T030000Z
SUMMARY:Carolina Theater
END:VEVENT
END:VCALENDAR
