BEGIN:VCALENDAR
VERSION:2.0
PRODID:-//Squarespace Inc/Squarespace 6//v6//EN
BEGIN:VEVENT
UID:61a50bf86fd4da066c10012e@squarespace.com
DTSTAMP:20211129T172325Z
DTSTART:20220513T030000Z
DTEND:20220513T040000Z
SUMMARY:Carnegie Music Hall
END:VEVENT
END:VCALENDAR
